BEGIN:VCALENDAR
VERSION:2.0
PRODID:-//www.eventmaker.at//ICS-Exporter//de
BEGIN:VEVENT
UID:eventmaker.at42370
URL;VALUE=URI:https://event.ovgw.at/sanierung_von_wasserbehaeltern__und_anderen_bauwerken_in_der_wasserversorgung-2/
SUMMARY;ENCODING=quoted-printable:ÖVGW: Sanierung von Wasserbehältern und anderen Bauwerken in der Wasserversorgung
DESCRIPTION;CHARSET=UTF-8:
LOCATION;ENCODING=quoted-printable:Hotel Alpenblick | Alte Landesstraße 6 | 5700 Zell am See
DTSTART:20260520T070000Z
DTEND:20260520T143000Z
END:VEVENT
END:VCALENDAR
